BEGIN:VCALENDAR
METHOD:PUBLISH
PRODID:-//doubleknot.com//CalenderEvent MIMEDIR//EN
VERSION:2.0
BEGIN:VEVENT
UID:3144209-20260502T120000Z-20260502T190000Z@doubleknot.com
CREATED:20260424T140321Z
LAST-MODIFIED:20260424T151436Z
DTSTAMP:20260424T173117Z
DTSTART:20260502T120000Z
DTEND:20260502T190000Z
LOCATION:38751 Bermont Road, Punta Gorda, FL 33982, US
CATEGORIES:
DESCRIPTION:CPR/AED Hybrid Course \n  \n Price Sanders Scout Reservation \n  \n This course will be offered as part of the Aquatics Supervisor Course. \n 
SUMMARY:2026 CPR/AED Hybrid Course
PRIORITY:5
BEGIN:VALARM
TRIGGER:PT15M
ACTION:DISPLAY
DESCRIPTION:Reminder
PRIORITY:5
END:VALARM
END:VEVENT
END:VCALENDAR
